BEGIN:VCALENDAR
VERSION:2.0
PRODID:-//eventon.com NONSGML v1.0//EN
CALSCALE:GREGORIAN
METHOD:PUBLISH
BEGIN:VEVENT
UID:69eb6204d54d2
DTSTAMP:20260424T122852Z
DTSTART:20250113T073000Z
DTEND:20250116T153000Z
LOCATION:JLB Techniques 8 Chem. du Lavoir\,  49540 Terranjou
SUMMARY:BT/HT  - Habilitation Ã©lectrique pour Ã©lectricien
DESCRIPTION:Maximum 10 participants Objectif du stage&nbsp;:&nbsp;ExÃ©cuter
  des opÃ©rations Ã©lectriques sur des installations Ã©lectriques en Basse e
 t Haute tension. Public visÃ©&nbsp;:&nbsp;Personnel Ã©lectricien pouvant rÃ
 ©aliser des travaux\,  des dÃ©pannages\,  des consignations\,  ou autres op
 Ã©rations dâ€™ordre Ã©lectrique en Basse Tension et Haute Tension. DurÃ©e d
 u stage&nbsp;:&nbsp;3 jours de thÃ©orie (21h) + 0\, 5 jour[..]\nhttps://www
 .jlbtechniques.com/events/formation-initiale-electricien-bt-ht/
URL:https://www.jlbtechniques.com/events/formation-initiale-electricien-bt-ht/
END:VEVENT
END:VCALENDAR